Workbook

Sheet Info
B2: Auswertungsrechner | M2: Version 7.11
B4: VIA Vermietete Immobilie als Altersvorsorge GmbH Rathausplatz 22 22926 Ahrensburg Telefon: 04102 6648537 E-Mail: office@vermietete-immobilie-als-altersvorsorge.de Internet: via.immo © Copyright 2025 - Alle Rechte vorbehalten

Sheet Eingabe Käuferdaten
B2: Käuferdaten eingeben | C2: Die grauen Felder bitte ausfüllen
C4: Person 1 | D4: Person 2 | F4: Menü
B5: Vorname & Nachname | F5: Einkommens & Vermögensbilanz
F6: Rentenlücke
B7: Einnahmen monatlich | F7: Maximale Finanzierungshöhe
B8: Aktuelle Einnahmen netto | C8: 0 | F8: Beispielberechnung
B9: Aktuelle Mieteinnahmen kalt | C9: 0 | F9: Bilanz
F10: Bilanz Diagramm
B11: Ausgaben monatlich | F11: Vergleich mit Sparplan
B12: Miete oder Eigenheimfinanzierung (mindestens 350 €, auch bei Mietfreiheit) | C12: 0 | F12: Eingabe Immodaten
B13: Kreditraten (Konsumkredite, Autokredite, Leasing, Ratenfinanzierung etc.) | C13: 0 | F13: Ergebnistabelle
B14: Unterhaltszahlung an Kinder oder geschiedenen Ehepartner | C14: 0
B15: Private Krankenversicherung (Eigenanteil) | C15: 0 | F15: Erweiterte Berechnungen
B16: Bestehende Immobilienfinanzierungen | C16: 0 | F16: Kurzberechnung Jahr 1
F17: Steuerbetrachtung
B18: Vermögen gesamt
B19: Bank, Depot, Rückkaufswert, Aktien, Gold, Immobilien etc. | C19: 0 | F19: Admin | I19: =C25+D25 -> 0 | J19: =I19-I19-I19 -> 0
F20: Steuertabelle
B21: Restschulden gesamt | F21: Inflationstabelle
B22: Konsumkredite, Autokredite, Immobilienfinanzierung etc. | C22: 0 | F22: Einstellungen (Pauschalen & Zins)
B24: Maximale Investition monatlich
B25: Für dieses Vorhaben (Mindestens 300 €) | C25: 0
B27: Maximal einzusetzendes Eigenkapital
B28: Für dieses Vorhaben | C28: 0
B30: Rentensituation
B31: Gewünschte Rentenhöhe laut Kunde zu Rentenbeginn mtl. | C31: 0
B32: Zu erwartende gesetzliche Rente zu Rentenbeginn mtl. | C32: 0
B33: Zu erwartende Betriebsrente zu Rentenbeginn mtl. | C33: 0
B34: Zu erwartende Riester Rente zu Rentenbeginn mtl. | C34: 0
B35: Zu erwartende sonstige Vorsorgen zu Rentenbeginn mtl. | C35: 0
B36: Jahre bis Rentenbeginn | C36: 0
B38: Inflation
B39: Unterstellte Inflation jährlich in Prozent | C39: 4 | D39: 4
B41: Zinssatz
B42: Unterstellter Finanzierungszinssatz in % | C42: 4
B44: Steuersatz
B45: Unterstellter Steuersatz auf Renteneinkünfte in % | C45: 0.2 | D45: 0.2
B47: Personenanzahl
B48: Im Haushalt lebende Erwachsene Personen | C48: 1
B49: Im Haushalt lebende Kinder | C49: 0
...

Sheet Eingabe Immodaten
B2: Immobiliendaten | E2: Die grauen Felder ausfüllen!
B4: Objekt | G4: Darlehen 2
B5: Kaufpreis | C5: 250122 | G5: Finanzierungssumme 2 | H5: 0
B6: davon Grundstücksanteil | C6: =C5*D6 -> 50024.4 | D6: 0.2 | G6: Zinsbindung 2 (Jahre) | H6: 10
B7: davon Sanierungskosten nach § 7h oder § 7i EStG | C7: 0 | G7: Zinssatz 2 (Prozent) | H7: 2.53
B8: Kaufnebenkosten | C8: =C5*D8 -> 18759.15 | D8: 0.075 | G8: Tilgungssatz 2 (Prozent) | H8: 3
B9: Renovierungskosten (sofort absetzbar) | C9: 0 | G9: Kreditrate pro Jahr 2 | H9: =H5*(H7+H8)/100 -> 0
B10: Gesamtkosten | C10: =C5+C8+C9 -> 268881.15 | G10: Geschätzter Anschlusszinssatz 2 (Prozent) | H10: 2.53
B11: Mieteinnahmen pro Jahr | C11: =D11*12 -> 11400 | D11: 950 | E11: mtl. | G11: Anschlussrate pro Jahr 2 | H11: =H5*(H8+H10)/100 -> 0
B12: Instandhaltungskosten pro Jahr | C12: =D12*12 -> 612.12 | D12: 51.01 | E12: mtl.
B13: Verwaltungskosten pro Jahr | C13: =D13*12 -> 720 | D13: 60 | E13: mtl. | G13: Steuern
B14: Jahresreinertrag | C14: =C11-C12-C13 -> 10067.88 | G14: Bemessung für Abschreibung (anteilige Gebäudekosten) | H14: =C5+C8-(C6+C7)*(1+C8/C5) -> 215104.92 | J14: Hilfsrechnung wegen doppelter Abfrage:
B15: Geschätzte Mietsteigerung pro Jahr (Prozent) | C15: 3 | G15: Abschreibung in % (Baujahr bis 1924 = 2,5%, nach 1924 = 2,0%) | H15: 3.5 | J15: Eingabe | K15: nachsehen in Spalte ledig oder verheiratet
B16: Geschätzte Kostensteigerung pro Jahr (Prozent) | C16: 1 | G16: Bemessung für Sonderabschreibung (Sanierung) | H16: =C7*C10/C5 -> 0 | J16: ledig | K16: 2
B17: Ankaufsfaktor (Kaufpreis/Miete-Verhältnis) | C17: =(C5+C9)/C11 -> 21.940526 | G17: Familienstand | H17: ledig | J17: verheiratet | K17: 3
B18: Anfängliche Brutto-Mietrendite (Prozent) | C18: =1/C17*100 -> 4.5577758 | G18: Zu versteuerndes Einkommen | H18: 60000 | J18: Nachsehen in Spalte | K18: =VLOOKUP(H17,J16:K17,2,FALSE) -> 2
B19: Anfängliche Netto-Mietrendite (Prozent) | C19: =C14/C10*100 -> 3.7443607 | G19: Grenzsteuersatz | H19: =K19 -> 0.39 | J19: Ergebnis Grenzsteuersatz | K19: =VLOOKUP(H18,Steuertabelle!A:C,K18,FALSE) -> 0.39
B21: Finanzierung | G21: Gewinnberechnung
B22: Eigenkapital | C22: 18759 | G22: Geschätzter Verkaufsfaktor (Kaufpreis/Miete-Verhältnis) | H22: 22.22
B23: Darlehen gesamt | C23: =(C10-C22)/(1-C29/100) -> 250122.15 | G23: Möglicher Verkaufspreis | H23: =SUM(Ergebnistabelle!AP7:AP56) -> 1078134.4 | J23: Annuität | K23: =SUM(Ergebnistabelle!AU7:AU56) -> 1.0436e-07
B24: =IF(C24>0,"Achtung! Finanzierungslücke!","Grün = Keine Finanzierungslücke - Rot = Überfinanzierung") -> Achtung! Finanzierungslücke! | C24: =C23-C27-H5 -> 0.15 | G24: Möglicher Gewinn nach Ablösung Darlehen | H24: =H23-SUM(Ergebnistabelle!AS7:AS56) -> 1078134.4 | J24: Jahresreinertrag | K24: =SUM(Ergebnistabelle!AT7:AT56) -> 46351.746
G25: =IF(H25>0,"Überschuss aus mtl. Zahlungen inkl. Eigenkapital","Summe aller Zahlungen inkl. Eigenkapital") -> Überschuss aus mtl. Zahlungen inkl. Eigenkapital | H25: =SUM(Ergebnistabelle!AQ7:AQ56) -> 441405.96 | J25: Gebundenes Kapital | K25: =C10-C27+K23 -> 18759.15
B26: Darlehen 1 | G26: Möglicher steuerfreier Gewinn | H26: =SUM(Ergebnistabelle!AR7:AR56) -> 1551884.4 | J26: Eigenkapitalrendite | K26: =K24/K25 -> 2.4708873
B27: Finanzierungssumme 1 | C27: 250122 | G27: Eigenkapitalrendite | H27: =K26 -> 2.4708873
B28: Zinsbindung 1 (Jahre) | C28: 10 | G28: Anlagehorizont (Maximal 50 Jahre) | H28: 50
B29: Disagio (Prozent) | C29: 0
B30: Zinssatz 1 (Prozent) | C30: 4.3
B31: Tilgungssatz 1 (Prozent) | C31: 2
B32: Kreditrate pro Jahr 1 | C32: =C27*(C30+C31)/100 -> 15757.686
B33: Geschätzter Anschlusszinssatz 1 (Prozent) | C33: 4.36
B34: Anschlussrate pro Jahr 1 | C34: =C27*(C31+C33)/100 -> 15907.759
F36: Menü

Sheet Einkommens & Vermögensbilanz
B2: Einkommens- & Vermögensbilanz
C4: Einnahmen | E4: Ausgaben | F4: Summe
C5: ='Eingabe Käuferdaten'!C8+'Eingabe Käuferdaten'!D8+'Eingabe Käuferdaten'!C9+'Eingabe Käuferdaten'!D9 -> 0 | E5: ='Eingabe Käuferdaten'!C12+'Eingabe Käuferdaten'!D12+'Eingabe Käuferdaten'!C13+'Eingabe Käuferdaten'!D13+'Eingabe Käuferdaten'!C14+'Eingabe Käuferdaten'!D14+'Eingabe Käuferdaten'!C16+'Eingabe Käuferdaten'!D16+'Eingabe Käuferdaten'!C15+'Eingabe Käuferdaten'!D15 -> 0
B7: =IF(F7<0,"Monatliche Unterdeckung","Monatlicher Überschuss") -> Monatlicher Überschuss | F7: =C5-E5 -> 0
B9: Maximale monatliche Zuzahlung | E9: ='Eingabe Käuferdaten'!C25+'Eingabe Käuferdaten'!D25 -> 0
B11: =IF(F11<0,"Negatives Ergebnis nach Investment","Positives Ergebnis nach Investment") -> Positives Ergebnis nach Investment | F11: =F7-E9 -> 0
C13: Vermögen | E13: Verbindlichkeiten
C14: ='Eingabe Käuferdaten'!C19+'Eingabe Käuferdaten'!D19 -> 0 | E14: ='Eingabe Käuferdaten'!C22+'Eingabe Käuferdaten'!D22 -> 0
B16: =IF(F16<0,"Negatives Vermögen","Positives Vermögen") -> Positives Vermögen | F16: =C14-E14 -> 0
B18: Maximal einzusetzendes Eigenkapital | E18: ='Eingabe Käuferdaten'!C28+'Eingabe Käuferdaten'!D28 -> 0
B20: =IF(F20<0,"Negatives Ergebnis nach Eigenkapitaleinsatz","Positives Ergebnis nach Eigenkapitaleinsatz") -> Positives Ergebnis nach Eigenkapitaleinsatz | F20: =F16-E18 -> 0
J26: Vermögen/Verbindlichkeiten
K28: Person 1
K29: Vermögen | L29: Überschuss / Verbindlichkeiten
J30: Vermögen | K30: =C14 -> 0
J31: Verbindlichkeiten | L31: =E14 -> 0
J32: Überschuss | L32: =F16 -> 0
J35: Einnahmen / Ausgaben
K37: Einnahmen | L37: Überschuss / Ausgaben
J38: Einnahmen | K38: =C5 -> 0
J39: Ausgaben | L39: =E5 -> 0
J40: Überschuss | L40: =F7 -> 0
B41: zurück | C41: Menü | F41: weiter

Sheet Rentenlücke
K1: Inflationssatz | L1: Zinsspalte
B2: ="Rentenlückenrechner für"&" "&'Eingabe Käuferdaten'!C5 -> Rentenlückenrechner für | E2: ="Rentenlückenrechner für"&" "&'Eingabe Käuferdaten'!D5 -> Rentenlückenrechner für | K2: 1 | L2: 2
C3: monatlich | F3: monatlich | K3: 1.5 | L3: 3
B4: Aktuelles Nettoeinkommen | C4: ='Eingabe Käuferdaten'!C8 -> 0 | E4: Aktuelles Nettoeinkommen | F4: ='Eingabe Käuferdaten'!D8 -> 0 | K4: 2 | L4: 4
B5: Gewünschte Rentenhöhe zu Rentenbeginn mtl. | C5: ='Eingabe Käuferdaten'!C31 -> 0 | E5: Gewünschte Rentenhöhe zu Rentenbeginn mtl. | F5: ='Eingabe Käuferdaten'!D31 -> 0 | K5: 2.5 | L5: 5
K6: 3 | L6: 6
B7: Zu erwartende gesetzliche Rente | C7: ='Eingabe Käuferdaten'!C32 -> 0 | E7: Zu erwartende gesetzliche Rente | F7: ='Eingabe Käuferdaten'!D32 -> 0 | K7: 3.5 | L7: 7
B8: Zu erwartende Betriebsrente zu Rentenbeginn mtl. | C8: ='Eingabe Käuferdaten'!C33 -> 0 | E8: Zu erwartende Betriebsrente zu Rentenbeginn mtl. | F8: ='Eingabe Käuferdaten'!D33 -> 0 | K8: 4 | L8: 8
B9: Zu erwartende Riester Rente zu Rentenbeginn mtl. | C9: ='Eingabe Käuferdaten'!C34 -> 0 | E9: Zu erwartende Riester Rente zu Rentenbeginn mtl. | F9: ='Eingabe Käuferdaten'!D34 -> 0 | K9: 5 | L9: 9
B10: Zu erwartende sonstige Vorsorgen zu Rentenbeginn mtl. | C10: ='Eingabe Käuferdaten'!C35 -> 0 | E10: Zu erwartende sonstige Vorsorgen zu Rentenbeginn mtl. | F10: ='Eingabe Käuferdaten'!D35 -> 0 | K10: 6 | L10: 10
B11: Zwischensumme Rente | C11: =SUM(C7:C10) -> 0 | E11: Zwischensumme Rente | F11: =SUM(F7:F10) -> 0 | K11: 7 | L11: 11
K12: 8 | L12: 12
B13: Jahre bis Rentenbeginn | C13: ='Eingabe Käuferdaten'!C36 -> 0 | E13: Jahre bis Rentenbeginn | F13: ='Eingabe Käuferdaten'!D36 -> 0 | K13: 9 | L13: 13
B14: Unterstellte Inflation jährlich in Prozent | C14: ='Eingabe Käuferdaten'!C39 -> 4 | E14: Unterstellte Inflation jährlich in Prozent | F14: ='Eingabe Käuferdaten'!D39 -> 4 | H14: Zinsspalte | I14: =VLOOKUP(C14,K2:L14,2,FALSE) -> 8 | K14: 10 | L14: 14
B15: Faktor Inflation laut Inflationstabelle | C15: =VLOOKUP(C13,Inflationstabelle!B9:O58,I14,FALSE) -> #N/A | E15: Faktor Inflation laut Inflationstabelle | F15: =VLOOKUP(F13,Inflationstabelle!B9:O58,I15,FALSE) -> #N/A | H15: Zinsspalte | I15: =VLOOKUP(F14,K2:L14,2,FALSE) -> 8
B16: Inflationsbereinigte Rente gesetzlich | C16: =C7*C15 -> #N/A | E16: Inflationsbereinigte Rente gesetzlich | F16: =F7*F15 -> #N/A
B17: Inflationsbereinigte Rente privat | C17: =(C8+C9+C10)*C15 -> #N/A | E17: Inflationsbereinigte Rente privat | F17: =(F8+F9+F10)*F15 -> #N/A
B19: Beitrag Kranken- und Pflegeversicherung in % | C19: =Einstellungen!O2+Einstellungen!Q2 -> 0.1035 | E19: Beitrag Kranken- und Pflegeversicherung in % | F19: =Einstellungen!O2+Einstellungen!Q2 -> 0.1035
B20: Beitrag Kranken- und Pflegeversicherung Summe | C20: =(C7+C8)*C15*C19 -> #N/A | E20: Beitrag Kranken- und Pflegeversicherung Summe | F20: =(F7+F8)*F15*F19 -> #N/A
B21: Unterstellter Steuersatz auf gesetzliche Renteneinkünfte in % | C21: ='Eingabe Käuferdaten'!C45 -> 0.2 | E21: Unterstellter Steuersatz auf gesetzliche Renteneinkünfte in % | F21: ='Eingabe Käuferdaten'!D45 -> 0.2
B22: Steuern auf gesetzliche Rente | C22: =C16*C21 -> #N/A | E22: Steuern auf gesetzliche Rente | F22: =F16*F21 -> #N/A
B24: Rente netto aus heutiger Sicht | C24: =C16+C17-C20-C22 -> #N/A | E24: Rente netto aus heutiger Sicht | F24: =F16+F17-F20-F22 -> #N/A
B26: Aktuelle Mieteinnahmen kalt | C26: ='Eingabe Käuferdaten'!C9 -> 0 | E26: Aktuelle Mieteinnahmen kalt | F26: ='Eingabe Käuferdaten'!D9 -> 0
B28: Rentenlücke pro Monat | C28: =C24+C26-C5 -> #N/A | E28: Rentenlücke pro Monat | F28: =F24+F26-F5 -> #N/A
B30: zurück | F30: Zur Zusammenfassung
F31: weiter
J54: Diagramm Einnahmen später im Verhältnis zu heute
K56: Person 1
K57: Wunsch | L57: Realität
J58: Wunschrente | K58: =C5 -> 0
J59: Zu erwartende Kaufkraft | L59: =C24 -> #N/A
J60: Mieteinnahmen | L60: =C26 -> 0
B61: zurück | D61: Menü | F61: weiter | J61: Einnahmen gesamt | L61: =L59+L60 -> #N/A
J62: Rentenlücke | L62: =ABS(C28) -> #N/A
B63: ="Rentenlücke von"&" "&'Eingabe Käuferdaten'!C5 -> Rentenlücke von | D63: ="Rentenlücke von"&" "&'Eingabe Käuferdaten'!D5 -> Rentenlücke von
K64: Person 2
K65: Wunsch | L65: Realität
J66: Wunschrente | K66: =F5 -> 0
J67: Zu erwartende Kaufkraft | L67: =F24 -> #N/A
J68: Mieteinnahmen | L68: =F26 -> 0
...

Sheet Max Volumen
B2: Quickcheck der maximalen Finanzierungshöhe
B4: Das Ergebnis ist ein Annäherungswert und dient der bestmöglichen Einschätzung.
B6: Nettoeinkommen | C6: ='Einkommens & Vermögensbilanz'!C5 -> 0
B7: Mieteinnahmen kalt aus zu finanzierenden Immobilien (Ansatz 80%) | C7: ='Eingabe Immodaten'!D11 -> 950
B8: Einnahmen gesamt | D8: =C6+(C7*0.8) -> 760
B10: Ausgaben gesamt | D10: ='Eingabe Käuferdaten'!C12+'Eingabe Käuferdaten'!D12+'Eingabe Käuferdaten'!C13+'Eingabe Käuferdaten'!D13+'Eingabe Käuferdaten'!C14+'Eingabe Käuferdaten'!D14+'Eingabe Käuferdaten'!C16+'Eingabe Käuferdaten'!D16+'Eingabe Käuferdaten'!C15+'Eingabe Käuferdaten'!D15 -> 0
B12: Im Haushalt lebende volljährige Personen | C12: ='Eingabe Käuferdaten'!C48 -> 1 | E12: LHK | F12: =VLOOKUP(C14,Einstellungen!G2:H4,2,FALSE) -> 0
B13: Im Haushalt lebende unterhaltsberechtigte Kinder | C13: ='Eingabe Käuferdaten'!C49 -> 0 | E13: LHK | F13: =VLOOKUP(C12,Einstellungen!A2:B3,2,FALSE) -> 1450
B14: Im Haushalt befindliche Autos | C14: ='Eingabe Käuferdaten'!C50 -> 0 | E14: LHK | F14: =VLOOKUP(C13,Einstellungen!D2:E7,2,FALSE) -> 0
B15: Lebenshaltungskostenpauschalen gesamt | D15: =F12+F13+F14 -> 1450
B17: Eigenkapital welches eingesetzt werden soll | C17: ='Einkommens & Vermögensbilanz'!E18 -> 0
B19: =IF(D19<0,"Unterdeckung!","Überschuss monatlich") -> Unterdeckung! | D19: =D8-D10-D15 -> -690
B21: Alterskategorie | C21: ='Eingabe Käuferdaten'!C53 -> 31-35 | E21: Tilgung | F21: =VLOOKUP(C21,Einstellungen!J2:K8,2,FALSE) -> 2.5
B23: =IF(C23<50000,"Es ist leider keine Finanzierung möglich!","Höhe Ihrer maximalen Investition") -> Es ist leider keine Finanzierung möglich! | C23: =(D19*12)/('Eingabe Käuferdaten'!C42+F21)%+C17 -> -127384.62
B25: zurück | C25: Menü | D25: weiter

Sheet Beispielberechnung
C4: Unverbindliche Beispielberechnung
C7: Kaufpreis | J7: ='Eingabe Immodaten'!C5 -> 250122
C9: Kaufnebenkosten | J9: ='Eingabe Immodaten'!C8 -> 18759.15
C11: Eigenkapital | J11: ='Eingabe Immodaten'!C22 -> 18759
C13: Finanzierungsumme | J13: ='Eingabe Immodaten'!C23 -> 250122.15
C15: Rendite | J15: =(D24*12)/J7 -> 0.045577758
C17: AfA in % | J17: ='Eingabe Immodaten'!H15 -> 3.5
C21: Einnahmen monatlich | H21: Aufwendungen monatlich
C24: Miete | D24: ='Eingabe Immodaten'!D11 -> 950 | H24: Zins | I24: ='Eingabe Immodaten'!C30/100 -> 0.043 | J24: =(Ergebnistabelle!P7+Ergebnistabelle!S7)/12 -> 896.2705
C26: =IF(D26<0,"Steuerentlastung","Steuerzahlung") -> Steuerentlastung | D26: =(Ergebnistabelle!AF7/12) -> -267.02124 | H26: Tilgung | I26: ='Eingabe Immodaten'!C31/100 -> 0.02 | J26: =(Ergebnistabelle!Q7+Ergebnistabelle!T7)/12 -> 416.87
H28: Haus- und Mietverwaltung | J28: ='Eingabe Immodaten'!D13 -> 60
H30: Instandhaltungsrücklage | J30: ='Eingabe Immodaten'!D12 -> 51.01
C33: Einnahmen | D33: =D24-D26 -> 1217.0212 | H33: Aufwendungen | J33: =SUM(J24:J30) -> 1424.1505
C37: Eigenaufwand zu Beginn:
C38: =J33-D33 -> 207.12926
B58: zurück | G58: Menü | K58: weiter Bilanz
K59: oder
K60: weiter Bilanz Diagramm

Sheet Bilanz
B2: Bilanz Vermietete Immobilie | E2: Kaufpreis: | F2: ='Eingabe Immodaten'!C5 -> 250122 | H2: Ergebnisjahr auswählen: | I2: 10
B4: Einnahmen monatlich | E4: Ausgaben monatlich | L4: Ausgaben gesamt | M4: =F12 -> 1434.5505
L5: Miete | M5: =C6 -> 1239.5345
B6: Miete | C6: =_xlfn.XLOOKUP(I2,Ergebnistabelle!B7:B56,Ergebnistabelle!D7:D56)/12 -> 1239.5345 | E6: Zinsen | F6: {=_xlfn.XLOOKUP(I2,Ergebnistabelle!B7:B56,Ergebnistabelle!P7:P56+Ergebnistabelle!S7:S56)/12} -> 704.22165 | L6: =B8 -> Steuerentlastung | M6: =ABS(C8) -> 83.259726
L7: Ausgaben | M7: =F12 -> 1434.5505
B8: =IF(C8<0,"Steuerentlastung","Steuerzahlung") -> Steuerentlastung | C8: =_xlfn.XLOOKUP(I2,Ergebnistabelle!B7:B56,Ergebnistabelle!AF7:AF56)/12 -> -83.259726 | E8: Tilgung | F8: {=_xlfn.XLOOKUP(I2,Ergebnistabelle!B7:B56,Ergebnistabelle!Q7:Q56+Ergebnistabelle!T7:T56)/12} -> 608.91885 | L8: =B15 -> Monatliche Zuzahlung | M8: =ABS(F15) -> 111.75625
E10: Verwaltung & Rücklage | F10: =_xlfn.XLOOKUP(I2,Ergebnistabelle!B7:B56,Ergebnistabelle!F7:F56)/12 -> 121.41
B12: Summe Einnahmen | C12: =C6-C8 -> 1322.7943 | E12: Summe Ausgaben | F12: =F6+F8+F10 -> 1434.5505
B15: =IF(F15<0,"Monatliche Zuzahlung","Monatlicher Überschuss") -> Monatliche Zuzahlung | F15: =C12-F12 -> -111.75625
B20: Entwicklung des Investments
B22: Möglicher Immobilienwert | F22: =_xlfn.XLOOKUP(I2,Ergebnistabelle!B7:B56,Ergebnistabelle!AN7:AN56) -> 340424.77
L23: Investition | M23: Möglicher steuerfreier Gewinn
B24: Restschuld | F24: =_xlfn.XLOOKUP(I2,Ergebnistabelle!B7:B56,Ergebnistabelle!W7:W56) -> 189219.95 | L24: =F28+F30 -> -38052.57 | M24: =F26 -> 151204.82
B26: =IF(I2<10,"Möglicher Gewinn bei Verkauf","Möglicher steuerfreier Gewinn bei Verkauf") -> Möglicher steuerfreier Gewinn bei Verkauf | F26: =F22-F24 -> 151204.82 | L26: =IF(L24>0,"Gewinn höher als Investition",(F32/L24)/I2*-1) -> 0.29735772
L27: =L26*I2 -> 2.9735772 | M27: Gesamtrendite
B28: Abzüglich eingesetztes Eigenkapital | F28: =('Eingabe Immodaten'!C22)*-1 -> -18759 | L28: =(1+L27)^(365/(365*I2))-1 -> 0.14793729 | M28: Jahresrendite = (1 + Gesamtrendite) hoch (365 / Haltedauer in Tagen) – 1
M29: Jehresrendite berechnen: | N29: https://www.finanzen.net/ratgeber/rendite-berechnen
B30: =IF(F30>0,"Zuzüglich Vermögens aus mtl. Überschüssen","Abzüglich Investition aus mtl. Unterdeckungen") -> Abzüglich Investition aus mtl. Unterdeckungen | F30: {=_xlfn.XLOOKUP(I2,Ergebnistabelle!B7:B56,Ergebnistabelle!AM7:AM56-F28)} -> -19293.57 | L30: =IF(L24>0,"Gewinn höher als Investition",L28) -> 0.14793729
L31: =IF(L30<0,"",L30) -> 0.14793729
B32: =IF(I2<10,"Möglicher Gewinn nach Abzug der Investition","Möglicher steuerfreier Gewinn nach Abzug der Investition") -> Möglicher steuerfreier Gewinn nach Abzug der Investition | F32: =F26+F28+F30 -> 113152.25 | L32: =IF(L30<0,"","Rendite pro Jahr*:") -> Rendite pro Jahr*:
L33: =IF(L30<0,"","*Möglicher Gewinn im Verhältnis zur Investition aus mtl. Unterdeckungen und Eigenkapital im ausgewählten Ergebnisjahr. (Jahresrendite = (1 + Gesamtrendite) hoch (365 / Haltedauer in Tagen) – 1)") -> *Möglicher Gewinn im Verhältnis zur Investition aus mtl. Unterdeckungen und Eigenkapital im ausgewählten Ergebnisjahr. (Jahresrendite = (1 + Gesamtrendite) hoch (365 / Haltedauer in Tagen) – 1)
B34: =L32 -> Rendite pro Jahr*: | F34: =L31 -> 0.14793729
D36: zurück | F36: Menü | J36: Diagramme
J37: Vergleich mit einem Sparplan
B39: =L33 -> *Möglicher Gewinn im Verhältnis zur Investition aus mtl. Unterdeckungen und Eigenkapital im ausgewählten Ergebnisjahr. (Jahresrendite = (1 + Gesamtrendite) hoch (365 / Haltedauer in Tagen) – 1)

Sheet Bilanz Diagramm
K4: Steuerlast | L4: =_xlfn.XLOOKUP(I6,Ergebnistabelle!B7:B56,Ergebnistabelle!AF7:AF56)/12 -> -83.259726 | M4: =IF(L4<0,"Steuerentlastung","Steuerzahlung") -> Steuerentlastung
K5: Zinsen | L5: {=_xlfn.XLOOKUP(I6,Ergebnistabelle!B7:B56,Ergebnistabelle!P7:P56+Ergebnistabelle!S7:S56)/12} -> 704.22165
H6: Ergebnisjahr auswählen: | I6: 10 | K6: Tilgung | L6: {=_xlfn.XLOOKUP(I6,Ergebnistabelle!B7:B56,Ergebnistabelle!Q7:Q56+Ergebnistabelle!T7:T56)/12} -> 608.91885
F7: Immobilienwert | K7: Verwaltung | L7: =_xlfn.XLOOKUP(I6,Ergebnistabelle!B7:B56,Ergebnistabelle!F7:F56)/12 -> 121.41
D8: Objektwertsteigerung: | E8: ='Eingabe Immodaten'!C15/100 -> 0.03 | F8: =_xlfn.XLOOKUP(I6,Ergebnistabelle!B7:B56,Ergebnistabelle!AN7:AN56) -> 340424.77 | H8: Unverbindliche Schätzung | K8: Ausgaben gesamt | L8: =L5+L6+L7 -> 1434.5505
H9: Mieteinnahmen mtl. zu Beginn | I9: ='Eingabe Immodaten'!D11 -> 950 | K9: Einnahmen gesamt | L9: =I11-L4 -> 1322.7943
H10: Mieteinnahmen mtl. erhöht um | I10: =I11-I9 -> 289.53452
H11: ="Mieteinnahmen mtl. Jahr "&I6 -> Mieteinnahmen mtl. Jahr 10 | I11: =_xlfn.XLOOKUP(I6,Ergebnistabelle!B7:B56,Ergebnistabelle!D7:D56)/12 -> 1239.5345
K12: Miete | L12: =I11 -> 1239.5345
H13: Eigenaufwand mtl. zu Beginn | I13: =Ergebnistabelle!AL7 -> -207.12926 | K13: =M4 -> Steuerentlastung | L13: =ABS(L4) -> 83.259726
H14: Eigenaufwand mtl. reduziert um | I14: =I13-I15 -> -95.373007 | K14: Ausgaben | L14: =L8 -> 1434.5505
H15: =IF(I15>0,"Überschuss mtl. Jahr ","Eigenaufwand mtl. Jahr ")&I6 -> Eigenaufwand mtl. Jahr 10 | I15: =_xlfn.XLOOKUP(I6,Ergebnistabelle!B7:B56,Ergebnistabelle!AL7:AL56) -> -111.75625 | K15: =K16 -> Monatliche Zuzahlung | L15: =ABS(L16) -> 111.75625
D16: Laufzeit: | E16: =I6 & L21 -> 10 Jahre | H16: =L32 -> Rendite pro Jahr*: | I16: =L31 -> 0.14793729 | K16: =IF(L16<0,"Monatliche Zuzahlung","Monatlicher Überschuss") -> Monatliche Zuzahlung | L16: =(L9-L8) -> -111.75625
B17: Kaufpreis | F17: =IF(I6<10,"Gewinn","Steuerfreier Gewinn") -> Steuerfreier Gewinn
B18: ='Eingabe Immodaten'!C5 -> 250122 | F18: =F8-F28 -> 151204.82
D19: =IF(E19>0,"Vermögen aus mtl. Überschüssen:","Investition gesamt:") -> Investition gesamt: | E19: =_xlfn.XLOOKUP(I6,Ergebnistabelle!B7:B56,Ergebnistabelle!AM7:AM56) -> -38052.57
L21: =IF(I6<2," Jahr"," Jahre") -> Jahre
L23: Investment | M23: Möglicher steuerfreier Gewinn
L24: =E19 -> -38052.57 | M24: =F18 -> 151204.82
L26: =IF(L24>0,"Gewinn höher als Investition",((F18+E19)/L24)/I6*-1) -> 0.29735772
D27: Tilgung: | E27: ='Eingabe Immodaten'!C31/100 -> 0.02 | F27: Restschuld | G27: Tilgung 1 | L27: =L26*I6 -> 2.9735772 | M27: Gesamtrendite
F28: =_xlfn.XLOOKUP(I6,Ergebnistabelle!B7:B56,Ergebnistabelle!W7:W56) -> 189219.95 | L28: =(1+L27)^(365/(365*I6))-1 -> 0.14793729 | M28: Jahresrendite = (1 + Gesamtrendite) hoch (365 / Haltedauer in Tagen) – 1
M29: Jehresrendite berechnen: | N29: https://www.finanzen.net/ratgeber/rendite-berechnen
L30: =IF(L24>0,"Gewinn höher als Investition",L28) -> 0.14793729
L31: =IF(L30<0,"",L30) -> 0.14793729
L32: =IF(L30<0,"","Rendite pro Jahr*:") -> Rendite pro Jahr*:
B33: zurück | D33: Menü | I33: Vergleich mit einem Sparplan
B35: =IF(L26<0,"","*Möglicher Gewinn im Verhältnis zur Investition aus mtl. Unterdeckungen und Eigenkapital im ausgewählten Ergebnisjahr. (Jahresrendite = (1 + Gesamtrendite) hoch (365 / Haltedauer in Tagen) – 1)") -> *Möglicher Gewinn im Verhältnis zur Investition aus mtl. Unterdeckungen und Eigenkapital im ausgewählten Ergebnisjahr. (Jahresrendite = (1 + Gesamtrendite) hoch (365 / Haltedauer in Tagen) – 1)

Sheet Vergleich Sparplan
B2: Vergleich mit einem Sparplan | G2: Guthabenentwicklung
C3: Die grauen Felder ausfüllen
B4: Eingabe | G4: Jahr | H4: Guthaben am Anfang | I4: Monatsrate | J4: Einzahlungen | K4: Guthaben | L4: Zinsen | M4: Guthaben inkl. Zinsen | N4: Steuern | O4: Guthaben nach Steuern | Q4: Hilfsfeld Monatsrate
B5: Zinssatz des Sparplans | C5: 0.05 | D5: p.a. | G5: 1 | H5: =C10 -> 18759 | I5: =IF(Q5>0,Q5,"0") -> 207.12926 | J5: =I5*C$12 -> 2485.5511 | K5: =H5+J5 -> 21244.551 | L5: =IF(G5="","",K5*C$5) -> 1062.2276 | M5: =IF(G5="","",K5+L5) -> 22306.779 | N5: =IF(L5<$C$8,0,((L5-$C$8)*$C$9)) -> 16.412518 | O5: =IFERROR(IF(G5="","",M5-N5),"") -> 22290.366 | Q5: =IF(G5="","",-Ergebnistabelle!AL7) -> 207.12926
B6: Ansparzeit | C6: 50 | D6: Jahre | G6: =IF(G5>=$C$6,NA(),G5+1) -> 2 | H6: =IF(G6="","",O5) -> 22290.366 | I6: =IF(Q6>0,Q6,"0") -> 197.41233 | J6: =I6*C$12 -> 2368.948 | K6: =H6+J6 -> 24659.314 | L6: =IF(G6="","",K6*C$5) -> 1232.9657 | M6: =IF(G6="","",K6+L6) -> 25892.28 | N6: =IF(L6<$C$8,0,((L6-$C$8)*$C$9)) -> 61.444705 | O6: =IFERROR(IF(G6="","",M6-N6),"") -> 25830.835 | Q6: =IF(G6="","",-Ergebnistabelle!AL8) -> 197.41233
B7: Familienstand | C7: Ledig | G7: =IF(G6>=$C$6,NA(),G6+1) -> 3 | H7: =IF(G7="","",O6) -> 25830.835 | I7: =IF(Q7>0,Q7,"0") -> 187.48123 | J7: =I7*C$12 -> 2249.7748 | K7: =H7+J7 -> 28080.61 | L7: =IF(G7="","",K7*C$5) -> 1404.0305 | M7: =IF(G7="","",K7+L7) -> 29484.64 | N7: =IF(L7<$C$8,0,((L7-$C$8)*$C$9)) -> 106.56304 | O7: =IFERROR(IF(G7="","",M7-N7),"") -> 29378.077 | Q7: =IF(G7="","",-Ergebnistabelle!AL9) -> 187.48123
B8: Steuerfreibetrag pro Jahr | C8: =E8 -> 1000 | D8: EUR | E8: =IF(C7="ledig",Einstellungen!U2,IF(C7="verheiratet",Einstellungen!W2,"")) -> 1000 | G8: =IF(G7>=$C$6,NA(),G7+1) -> 4 | H8: =IF(G8="","",O7) -> 29378.077 | I8: =IF(Q8>0,Q8,"0") -> 177.33331 | J8: =I8*C$12 -> 2127.9997 | K8: =H8+J8 -> 31506.077 | L8: =IF(G8="","",K8*C$5) -> 1575.3039 | M8: =IF(G8="","",K8+L8) -> 33081.381 | N8: =IF(L8<$C$8,0,((L8-$C$8)*$C$9)) -> 151.73639 | O8: =IFERROR(IF(G8="","",M8-N8),"") -> 32929.645 | Q8: =IF(G8="","",-Ergebnistabelle!AL10) -> 177.33331
B9: Steuersatz Kapitalerträge | C9: =Einstellungen!S2 -> 0.26375 | G9: =IF(G8>=$C$6,NA(),G8+1) -> 5 | H9: =IF(G9="","",O8) -> 32929.645 | I9: =IF(Q9>0,Q9,"0") -> 166.966 | J9: =I9*C$12 -> 2003.592 | K9: =H9+J9 -> 34933.237 | L9: =IF(G9="","",K9*C$5) -> 1746.6618 | M9: =IF(G9="","",K9+L9) -> 36679.898 | N9: =IF(L9<$C$8,0,((L9-$C$8)*$C$9)) -> 196.93206 | O9: =IFERROR(IF(G9="","",M9-N9),"") -> 36482.966 | Q9: =IF(G9="","",-Ergebnistabelle!AL11) -> 166.966
B10: Anfangskapital | C10: ='Eingabe Immodaten'!C22 -> 18759 | D10: EUR | G10: =IF(G9>=$C$6,NA(),G9+1) -> 6 | H10: =IF(G10="","",O9) -> 36482.966 | I10: =IF(Q10>0,Q10,"0") -> 156.37684 | J10: =I10*C$12 -> 1876.5221 | K10: =H10+J10 -> 38359.488 | L10: =IF(G10="","",K10*C$5) -> 1917.9744 | M10: =IF(G10="","",K10+L10) -> 40277.463 | N10: =IF(L10<$C$8,0,((L10-$C$8)*$C$9)) -> 242.11575 | O10: =IFERROR(IF(G10="","",M10-N10),"") -> 40035.347 | Q10: =IF(G10="","",-Ergebnistabelle!AL12) -> 156.37684
B11: Sparrate monatlich | C11: Wie bei der Immobilie | D11: EUR | G11: =IF(G10>=$C$6,NA(),G10+1) -> 7 | H11: =IF(G11="","",O10) -> 40035.347 | I11: =IF(Q11>0,Q11,"0") -> 145.56346 | J11: =I11*C$12 -> 1746.7615 | K11: =H11+J11 -> 41782.109 | L11: =IF(G11="","",K11*C$5) -> 2089.1054 | M11: =IF(G11="","",K11+L11) -> 43871.214 | N11: =IF(L11<$C$8,0,((L11-$C$8)*$C$9)) -> 287.25156 | O11: =IFERROR(IF(G11="","",M11-N11),"") -> 43583.962 | Q11: =IF(G11="","",-Ergebnistabelle!AL13) -> 145.56346
B12: Anzahl Raten pro Jahr | C12: 12 | G12: =IF(G11>=$C$6,NA(),G11+1) -> 8 | H12: =IF(G12="","",O11) -> 43583.962 | I12: =IF(Q12>0,Q12,"0") -> 134.52362 | J12: =I12*C$12 -> 1614.2834 | K12: =H12+J12 -> 45198.246 | L12: =IF(G12="","",K12*C$5) -> 2259.9123 | M12: =IF(G12="","",K12+L12) -> 47458.158 | N12: =IF(L12<$C$8,0,((L12-$C$8)*$C$9)) -> 332.30187 | O12: =IFERROR(IF(G12="","",M12-N12),"") -> 47125.856 | Q12: =IF(G12="","",-Ergebnistabelle!AL14) -> 134.52362
B13: Ergebnis | G13: =IF(G12>=$C$6,NA(),G12+1) -> 9 | H13: =IF(G13="","",O12) -> 47125.856 | I13: =IF(Q13>0,Q13,"0") -> 123.25521 | J13: =I13*C$12 -> 1479.0625 | K13: =H13+J13 -> 48604.919 | L13: =IF(G13="","",K13*C$5) -> 2430.2459 | M13: =IF(G13="","",K13+L13) -> 51035.165 | N13: =IF(L13<$C$8,0,((L13-$C$8)*$C$9)) -> 377.22737 | O13: =IFERROR(IF(G13="","",M13-N13),"") -> 50657.937 | Q13: =IF(G13="","",-Ergebnistabelle!AL15) -> 123.25521
B14: Einzahlungen | C14: =Tabelle10[[#Totals],[Einzahlungen]] -> 44502.82 | D14: EUR | G14: =IF(G13>=$C$6,NA(),G13+1) -> 10 | H14: =IF(G14="","",O13) -> 50657.937 | I14: =IF(Q14>0,Q14,"0") -> 111.75625 | J14: =I14*C$12 -> 1341.075 | K14: =H14+J14 -> 51999.012 | L14: =IF(G14="","",K14*C$5) -> 2599.9506 | M14: =IF(G14="","",K14+L14) -> 54598.963 | N14: =IF(L14<$C$8,0,((L14-$C$8)*$C$9)) -> 421.98698 | O14: =IFERROR(IF(G14="","",M14-N14),"") -> 54176.976 | Q14: =IF(G14="","",-Ergebnistabelle!AL16) -> 111.75625
B15: Zinsen | C15: =Tabelle10[[#Totals],[Zinsen]] -> 299661.21 | D15: EUR | G15: =IF(G14>=$C$6,NA(),G14+1) -> 11 | H15: =IF(G15="","",O14) -> 54176.976 | I15: =IF(Q15>0,Q15,"0") -> 108.84125 | J15: =I15*C$12 -> 1306.095 | K15: =H15+J15 -> 55483.071 | L15: =IF(G15="","",K15*C$5) -> 2774.1536 | M15: =IF(G15="","",K15+L15) -> 58257.225 | N15: =IF(L15<$C$8,0,((L15-$C$8)*$C$9)) -> 467.933 | O15: =IFERROR(IF(G15="","",M15-N15),"") -> 57789.292 | Q15: =IF(G15="","",-Ergebnistabelle!AL17) -> 108.84125
B16: Guthaben am Ende vor Steuern | C16: =C14+C15 -> 344164.03 | D16: EUR | G16: =IF(G15>=$C$6,NA(),G15+1) -> 12 | H16: =IF(G16="","",O15) -> 57789.292 | I16: =IF(Q16>0,Q16,"0") -> 97.076331 | J16: =I16*C$12 -> 1164.916 | K16: =H16+J16 -> 58954.208 | L16: =IF(G16="","",K16*C$5) -> 2947.7104 | M16: =IF(G16="","",K16+L16) -> 61901.918 | N16: =IF(L16<$C$8,0,((L16-$C$8)*$C$9)) -> 513.70861 | O16: =IFERROR(IF(G16="","",M16-N16),"") -> 61388.209 | Q16: =IF(G16="","",-Ergebnistabelle!AL18) -> 97.076331
B17: Steuern | C17: =Tabelle10[[#Totals],[Steuern]] -> 65848.145 | D17: EUR | G17: =IF(G16>=$C$6,NA(),G16+1) -> 13 | H17: =IF(G17="","",O16) -> 61388.209 | I17: =IF(Q17>0,Q17,"0") -> 85.091078 | J17: =I17*C$12 -> 1021.0929 | K17: =H17+J17 -> 62409.302 | L17: =IF(G17="","",K17*C$5) -> 3120.4651 | M17: =IF(G17="","",K17+L17) -> 65529.767 | N17: =IF(L17<$C$8,0,((L17-$C$8)*$C$9)) -> 559.27267 | O17: =IFERROR(IF(G17="","",M17-N17),"") -> 64970.495 | Q17: =IF(G17="","",-Ergebnistabelle!AL19) -> 85.091078
B18: Guthaben am Ende nach Steuern | C18: =C16-C17 -> 278315.89 | D18: EUR | G18: =IF(G17>=$C$6,NA(),G17+1) -> 14 | H18: =IF(G18="","",O17) -> 64970.495 | I18: =IF(Q18>0,Q18,"0") -> 72.885166 | J18: =I18*C$12 -> 874.62199 | K18: =H18+J18 -> 65845.117 | L18: =IF(G18="","",K18*C$5) -> 3292.2558 | M18: =IF(G18="","",K18+L18) -> 69137.372 | N18: =IF(L18<$C$8,0,((L18-$C$8)*$C$9)) -> 604.58248 | O18: =IFERROR(IF(G18="","",M18-N18),"") -> 68532.79 | Q18: =IF(G18="","",-Ergebnistabelle!AL20) -> 72.885166
G19: =IF(G18>=$C$6,NA(),G18+1) -> 15 | H19: =IF(G19="","",O18) -> 68532.79 | I19: =IF(Q19>0,Q19,"0") -> 60.458539 | J19: =I19*C$12 -> 725.50247 | K19: =H19+J19 -> 69258.292 | L19: =IF(G19="","",K19*C$5) -> 3462.9146 | M19: =IF(G19="","",K19+L19) -> 72721.207 | N19: =IF(L19<$C$8,0,((L19-$C$8)*$C$9)) -> 649.59373 | O19: =IFERROR(IF(G19="","",M19-N19),"") -> 72071.613 | Q19: =IF(G19="","",-Ergebnistabelle!AL21) -> 60.458539
G20: =IF(G19>=$C$6,NA(),G19+1) -> 16 | H20: =IF(G20="","",O19) -> 72071.613 | I20: =IF(Q20>0,Q20,"0") -> 47.811431 | J20: =I20*C$12 -> 573.73718 | K20: =H20+J20 -> 72645.351 | L20: =IF(G20="","",K20*C$5) -> 3632.2675 | M20: =IF(G20="","",K20+L20) -> 76277.618 | N20: =IF(L20<$C$8,0,((L20-$C$8)*$C$9)) -> 694.26056 | O20: =IFERROR(IF(G20="","",M20-N20),"") -> 75583.358 | Q20: =IF(G20="","",-Ergebnistabelle!AL22) -> 47.811431
G21: =IF(G20>=$C$6,NA(),G20+1) -> 17 | H21: =IF(G21="","",O20) -> 75583.358 | I21: =IF(Q21>0,Q21,"0") -> 34.944387 | J21: =I21*C$12 -> 419.33264 | K21: =H21+J21 -> 76002.69 | L21: =IF(G21="","",K21*C$5) -> 3800.1345 | M21: =IF(G21="","",K21+L21) -> 79802.825 | N21: =IF(L21<$C$8,0,((L21-$C$8)*$C$9)) -> 738.53548 | O21: =IFERROR(IF(G21="","",M21-N21),"") -> 79064.289 | Q21: =IF(G21="","",-Ergebnistabelle!AL23) -> 34.944387
G22: =IF(G21>=$C$6,NA(),G21+1) -> 18 | H22: =IF(G22="","",O21) -> 79064.289 | I22: =IF(Q22>0,Q22,"0") -> 21.858284 | J22: =I22*C$12 -> 262.2994 | K22: =H22+J22 -> 79326.589 | L22: =IF(G22="","",K22*C$5) -> 3966.3294 | M22: =IF(G22="","",K22+L22) -> 83292.918 | N22: =IF(L22<$C$8,0,((L22-$C$8)*$C$9)) -> 782.36939 | O22: =IFERROR(IF(G22="","",M22-N22),"") -> 82510.549 | Q22: =IF(G22="","",-Ergebnistabelle!AL24) -> 21.858284
G23: =IF(G22>=$C$6,NA(),G22+1) -> 19 | H23: =IF(G23="","",O22) -> 82510.549 | I23: =IF(Q23>0,Q23,"0") -> 8.5543574 | J23: =I23*C$12 -> 102.65229 | K23: =H23+J23 -> 82613.201 | L23: =IF(G23="","",K23*C$5) -> 4130.66 | M23: =IF(G23="","",K23+L23) -> 86743.861 | N23: =IF(L23<$C$8,0,((L23-$C$8)*$C$9)) -> 825.71159 | O23: =IFERROR(IF(G23="","",M23-N23),"") -> 85918.149 | Q23: =IF(G23="","",-Ergebnistabelle!AL25) -> 8.5543574
G24: =IF(G23>=$C$6,NA(),G23+1) -> 20 | H24: =IF(G24="","",O23) -> 85918.149 | I24: =IF(Q24>0,Q24,"0") -> 0 | J24: =I24*C$12 -> 0 | K24: =H24+J24 -> 85918.149 | L24: =IF(G24="","",K24*C$5) -> 4295.9075 | M24: =IF(G24="","",K24+L24) -> 90214.057 | N24: =IF(L24<$C$8,0,((L24-$C$8)*$C$9)) -> 869.29559 | O24: =IFERROR(IF(G24="","",M24-N24),"") -> 89344.761 | Q24: =IF(G24="","",-Ergebnistabelle!AL26) -> -4.9657733
G25: =IF(G24>=$C$6,NA(),G24+1) -> 21 | H25: =IF(G25="","",O24) -> 89344.761 | I25: =IF(Q25>0,Q25,"0") -> 0 | J25: =I25*C$12 -> 0 | K25: =H25+J25 -> 89344.761 | L25: =IF(G25="","",K25*C$5) -> 4467.2381 | M25: =IF(G25="","",K25+L25) -> 93811.999 | N25: =IF(L25<$C$8,0,((L25-$C$8)*$C$9)) -> 914.48404 | O25: =IFERROR(IF(G25="","",M25-N25),"") -> 92897.515 | Q25: =IF(G25="","",-Ergebnistabelle!AL27) -> -18.700081
G26: =IF(G25>=$C$6,NA(),G25+1) -> 22 | H26: =IF(G26="","",O25) -> 92897.515 | I26: =IF(Q26>0,Q26,"0") -> 0 | J26: =I26*C$12 -> 0 | K26: =H26+J26 -> 92897.515 | L26: =IF(G26="","",K26*C$5) -> 4644.8758 | M26: =IF(G26="","",K26+L26) -> 97542.391 | N26: =IF(L26<$C$8,0,((L26-$C$8)*$C$9)) -> 961.33598 | O26: =IFERROR(IF(G26="","",M26-N26),"") -> 96581.055 | Q26: =IF(G26="","",-Ergebnistabelle!AL28) -> -32.6461
G27: =IF(G26>=$C$6,NA(),G26+1) -> 23 | H27: =IF(G27="","",O26) -> 96581.055 | I27: =IF(Q27>0,Q27,"0") -> 0 | J27: =I27*C$12 -> 0 | K27: =H27+J27 -> 96581.055 | L27: =IF(G27="","",K27*C$5) -> 4829.0528 | M27: =IF(G27="","",K27+L27) -> 101410.11 | N27: =IF(L27<$C$8,0,((L27-$C$8)*$C$9)) -> 1009.9127 | O27: =IFERROR(IF(G27="","",M27-N27),"") -> 100400.2 | Q27: =IF(G27="","",-Ergebnistabelle!AL29) -> -46.800898
G28: =IF(G27>=$C$6,NA(),G27+1) -> 24 | H28: =IF(G28="","",O27) -> 100400.2 | I28: =IF(Q28>0,Q28,"0") -> 0 | J28: =I28*C$12 -> 0 | K28: =H28+J28 -> 100400.2 | L28: =IF(G28="","",K28*C$5) -> 5020.0098 | M28: =IF(G28="","",K28+L28) -> 105420.2 | N28: =IF(L28<$C$8,0,((L28-$C$8)*$C$9)) -> 1060.2776 | O28: =IFERROR(IF(G28="","",M28-N28),"") -> 104359.93 | Q28: =IF(G28="","",-Ergebnistabelle!AL30) -> -61.161044
G29: =IF(G28>=$C$6,NA(),G28+1) -> 25 | H29: =IF(G29="","",O28) -> 104359.93 | I29: =IF(Q29>0,Q29,"0") -> 0 | J29: =I29*C$12 -> 0 | K29: =H29+J29 -> 104359.93 | L29: =IF(G29="","",K29*C$5) -> 5217.9964 | M29: =IF(G29="","",K29+L29) -> 109577.92 | N29: =IF(L29<$C$8,0,((L29-$C$8)*$C$9)) -> 1112.4965 | O29: =IFERROR(IF(G29="","",M29-N29),"") -> 108465.43 | Q29: =IF(G29="","",-Ergebnistabelle!AL31) -> -75.722578
G30: =IF(G29>=$C$6,NA(),G29+1) -> 26 | H30: =IF(G30="","",O29) -> 108465.43 | I30: =IF(Q30>0,Q30,"0") -> 0 | J30: =I30*C$12 -> 0 | K30: =H30+J30 -> 108465.43 | L30: =IF(G30="","",K30*C$5) -> 5423.2714 | M30: =IF(G30="","",K30+L30) -> 113888.7 | N30: =IF(L30<$C$8,0,((L30-$C$8)*$C$9)) -> 1166.6378 | O30: =IFERROR(IF(G30="","",M30-N30),"") -> 112722.06 | Q30: =IF(G30="","",-Ergebnistabelle!AL32) -> -90.480972
... G36: =IF(G35>=$C$6,NA(),G35+1) -> 32 | H36: =IF(G36="","",O35) -> 136474.29 | I36: =IF(Q36>0,Q36,"0") -> 0 | J36: =I36*C$12 -> 0 | K36: =H36+J36 -> 136474.29 | L36: =IF(G36="","",K36*C$5) -> 6823.7145 | M36: =IF(G36="","",K36+L36) -> 143298 | N36: =IF(L36<$C$8,0,((L36-$C$8)*$C$9)) -> 1536.0047 | O36: =IFERROR(IF(G36="","",M36-N36),"") -> 141762 | Q36: =IF(G36="","",-Ergebnistabelle!AL38) -> -1356.6128
C37: Menü | G37: =IF(G36>=$C$6,NA(),G36+1) -> 33 | H37: =IF(G37="","",O36) -> 141762 | I37: =IF(Q37>0,Q37,"0") -> 0 | J37: =I37*C$12 -> 0 | K37: =H37+J37 -> 141762 | L37: =IF(G37="","",K37*C$5) -> 7088.0999 | M37: =IF(G37="","",K37+L37) -> 148850.1 | N37: =IF(L37<$C$8,0,((L37-$C$8)*$C$9)) -> 1605.7364 | O37: =IFERROR(IF(G37="","",M37-N37),"") -> 147244.36 | Q37: =IF(G37="","",-Ergebnistabelle!AL39) -> -1399.1548
G38: =IF(G37>=$C$6,NA(),G37+1) -> 34 | H38: =IF(G38="","",O37) -> 147244.36 | I38: =IF(Q38>0,Q38,"0") -> 0 | J38: =I38*C$12 -> 0 | K38: =H38+J38 -> 147244.36 | L38: =IF(G38="","",K38*C$5) -> 7362.2181 | M38: =IF(G38="","",K38+L38) -> 154606.58 | N38: =IF(L38<$C$8,0,((L38-$C$8)*$C$9)) -> 1678.035 | O38: =IFERROR(IF(G38="","",M38-N38),"") -> 152928.55 | Q38: =IF(G38="","",-Ergebnistabelle!AL40) -> -1442.9916
G39: =IF(G38>=$C$6,NA(),G38+1) -> 35 | H39: =IF(G39="","",O38) -> 152928.55 | I39: =IF(Q39>0,Q39,"0") -> 0 | J39: =I39*C$12 -> 0 | K39: =H39+J39 -> 152928.55 | L39: =IF(G39="","",K39*C$5) -> 7646.4273 | M39: =IF(G39="","",K39+L39) -> 160574.97 | N39: =IF(L39<$C$8,0,((L39-$C$8)*$C$9)) -> 1752.9952 | O39: =IFERROR(IF(G39="","",M39-N39),"") -> 158821.98 | Q39: =IF(G39="","",-Ergebnistabelle!AL41) -> -1488.1621
B40: =-C14 -> -44502.82 | G40: =IF(G39>=$C$6,NA(),G39+1) -> 36 | H40: =IF(G40="","",O39) -> 158821.98 | I40: =IF(Q40>0,Q40,"0") -> 0 | J40: =I40*C$12 -> 0 | K40: =H40+J40 -> 158821.98 | L40: =IF(G40="","",K40*C$5) -> 7941.0989 | M40: =IF(G40="","",K40+L40) -> 166763.08 | N40: =IF(L40<$C$8,0,((L40-$C$8)*$C$9)) -> 1830.7148 | O40: =IFERROR(IF(G40="","",M40-N40),"") -> 164932.36 | Q40: =IF(G40="","",-Ergebnistabelle!AL42) -> -1534.7065
G41: =IF(G40>=$C$6,NA(),G40+1) -> 37 | H41: =IF(G41="","",O40) -> 164932.36 | I41: =IF(Q41>0,Q41,"0") -> 0 | J41: =I41*C$12 -> 0 | K41: =H41+J41 -> 164932.36 | L41: =IF(G41="","",K41*C$5) -> 8246.6181 | M41: =IF(G41="","",K41+L41) -> 173178.98 | N41: =IF(L41<$C$8,0,((L41-$C$8)*$C$9)) -> 1911.2955 | O41: =IFERROR(IF(G41="","",M41-N41),"") -> 171267.68 | Q41: =IF(G41="","",-Ergebnistabelle!AL43) -> -1582.6662
G42: =IF(G41>=$C$6,NA(),G41+1) -> 38 | H42: =IF(G42="","",O41) -> 171267.68 | I42: =IF(Q42>0,Q42,"0") -> 0 | J42: =I42*C$12 -> 0 | K42: =H42+J42 -> 171267.68 | L42: =IF(G42="","",K42*C$5) -> 8563.3842 | M42: =IF(G42="","",K42+L42) -> 179831.07 | N42: =IF(L42<$C$8,0,((L42-$C$8)*$C$9)) -> 1994.8426 | O42: =IFERROR(IF(G42="","",M42-N42),"") -> 177836.23 | Q42: =IF(G42="","",-Ergebnistabelle!AL44) -> -1632.0839
G43: =IF(G42>=$C$6,NA(),G42+1) -> 39 | H43: =IF(G43="","",O42) -> 177836.23 | I43: =IF(Q43>0,Q43,"0") -> 0 | J43: =I43*C$12 -> 0 | K43: =H43+J43 -> 177836.23 | L43: =IF(G43="","",K43*C$5) -> 8891.8113 | M43: =IF(G43="","",K43+L43) -> 186728.04 | N43: =IF(L43<$C$8,0,((L43-$C$8)*$C$9)) -> 2081.4652 | O43: =IFERROR(IF(G43="","",M43-N43),"") -> 184646.57 | Q43: =IF(G43="","",-Ergebnistabelle!AL45) -> -1683.0035
G44: =IF(G43>=$C$6,NA(),G43+1) -> 40 | H44: =IF(G44="","",O43) -> 184646.57 | I44: =IF(Q44>0,Q44,"0") -> 0 | J44: =I44*C$12 -> 0 | K44: =H44+J44 -> 184646.57 | L44: =IF(G44="","",K44*C$5) -> 9232.3286 | M44: =IF(G44="","",K44+L44) -> 193878.9 | N44: =IF(L44<$C$8,0,((L44-$C$8)*$C$9)) -> 2171.2767 | O44: =IFERROR(IF(G44="","",M44-N44),"") -> 191707.62 | Q44: =IF(G44="","",-Ergebnistabelle!AL46) -> -1735.4703
G45: =IF(G44>=$C$6,NA(),G44+1) -> 41 | H45: =IF(G45="","",O44) -> 191707.62 | I45: =IF(Q45>0,Q45,"0") -> 0 | J45: =I45*C$12 -> 0 | K45: =H45+J45 -> 191707.62 | L45: =IF(G45="","",K45*C$5) -> 9585.3812 | M45: =IF(G45="","",K45+L45) -> 201293 | N45: =IF(L45<$C$8,0,((L45-$C$8)*$C$9)) -> 2264.3943 | O45: =IFERROR(IF(G45="","",M45-N45),"") -> 199028.61 | Q45: =IF(G45="","",-Ergebnistabelle!AL47) -> -1789.5309
G46: =IF(G45>=$C$6,NA(),G45+1) -> 42 | H46: =IF(G46="","",O45) -> 199028.61 | I46: =IF(Q46>0,Q46,"0") -> 0 | J46: =I46*C$12 -> 0 | K46: =H46+J46 -> 199028.61 | L46: =IF(G46="","",K46*C$5) -> 9951.4305 | M46: =IF(G46="","",K46+L46) -> 208980.04 | N46: =IF(L46<$C$8,0,((L46-$C$8)*$C$9)) -> 2360.9398 | O46: =IFERROR(IF(G46="","",M46-N46),"") -> 206619.1 | Q46: =IF(G46="","",-Ergebnistabelle!AL48) -> -1845.2332
...

Sheet Diagramme

Sheet Ergebnistabelle
B2: ="Investitionsplan vermietete Immobilie Prognoserechnung für eine Anlagedauer von maximal "&'Eingabe Immodaten'!$H$28&" Jahren" -> Investitionsplan vermietete Immobilie Prognoserechnung für eine Anlagedauer von maximal 50 Jahren
B4: Jahr | C4: Mieteinnah-men pro Monat | D4: Mieteinnah-men pro Jahr | E4: Mietein-nahmen kumuliert | F4: Nicht um-legbare Kosten pro Jahr | G4: Jahresrein-ertrag | H4: Hilfsfeld Rate 1 | I4: Hilfsfeld Rate 2 | J4: Kreditrate 1 (Euro) pro Jahr | K4: Kreditrate 2 (Euro) pro Jahr | L4: Kreditrate pro Jahr | M4: Sonder-tilgung Darlehen 1 (Freie Eingabe) | N4: Sonder-tilgung Darlehen 2 (Freie Eingabe) | O4: Zinssatz 1 | P4: Zins 1 | Q4: Tilgung 1 | R4: Zinssatz 2 | S4: Zins 2 | T4: Tilgung 2 | U4: Restschuld Darlehen 1 | V4: Restschuld Darlehen 2 | W4: Restschuld gesamt | X4: Bemessung für Afa | Y4: Afasatz Gebäude | Z4: Afa nicht über 100% | AA4: Afa Gebäude | AB4: Bemessung Afa Sanierung | AC4: Afa-Satz Sanierung | AD4: Afa Sanierung | AE4: Werbungs-kosten (Sofortabzug) | AF4: Steuer-wirkung | AG4: Überschuss/ Unterdeckung pro Jahr | AH4: Verkaufspreis | AI4: Restschuld fällig | AJ4: Liquidität | AK4: Überschuss/ Unterdeckung (Euro) pro Jahr | AL4: Überschuss/ Unterdeckung pro Monat | AM4: Überschuss/ Unterdeckung kumuliert über die Laufzeit | AN4: Möglicher Verkaufspreis laut angegebenen Faktor | AO4: Möglicher Überschuss nach Verkauf und Tilgung Darlehen | AP4: Verkaufspreis | AQ4: Überschuss kumuliert | AR4: Möglicher Gewinn nach abl. Darlehen | AS4: Restschuld | AT4: Jahresreinertrag | AU4: Annuität
B5: Spalte1 | C5: Spalte2 | D5: Spalte3 | E5: Spalte310 | F5: Spalte4 | G5: Spalte5 | H5: Spalte6 | I5: Spalte7 | J5: Spalte8 | K5: Spalte9 | L5: Spalte10 | M5: Spalte11 | N5: Spalte12 | O5: Spalte13 | P5: Spalte14 | Q5: Spalte15 | R5: Spalte16 | S5: Spalte17 | T5: Spalte18 | U5: Spalte19 | V5: Spalte20 | W5: Spalte21 | X5: Spalte22 | Y5: Spalte23 | Z5: Spalte232 | AA5: Spalte24 | AB5: Spalte25 | AC5: Spalte26 | AD5: Spalte27 | AE5: Spalte28 | AF5: Spalte29 | AG5: Spalte30 | AH5: Spalte31 | AI5: Spalte32 | AJ5: Spalte33 | AK5: Spalte34 | AL5: Spalte35 | AM5: Spalte36 | AN5: Spalte37 | AO5: Spalte38 | AP5: Spalte39 | AQ5: Spalte40 | AR5: Spalte41 | AS5: Spalte42 | AT5: Spalte43 | AU5: Spalte432
B6: 0 | E6: =IF(B6=0,0,E5+D6) -> 0 | U6: ='Eingabe Immodaten'!C27 -> 250122 | V6: ='Eingabe Immodaten'!H5 -> 0 | W6: =U6+V6 -> 250122 | Z6: =Tabelle12[[#This Row],[Spalte23]] -> 0 | AJ6: =-'Eingabe Immodaten'!C10 -> -268881.15 | AK6: =-'Eingabe Immodaten'!C22 -> -18759 | AM6: ='Eingabe Immodaten'!C22 -> 18759 | AP6: =IF(B6='Eingabe Immodaten'!$H$28,Ergebnistabelle!D6*'Eingabe Immodaten'!$H$22,0) -> 0 | AQ6: =IF(B6='Eingabe Immodaten'!$H$28,Ergebnistabelle!AM6,0) -> 0 | AR6: =IF(B6='Eingabe Immodaten'!$H$28,Ergebnistabelle!AO6,0) -> 0 | AS6: =IF(B6='Eingabe Immodaten'!$H$28,Ergebnistabelle!W6,0) -> 0 | AT6: =IF(B6='Eingabe Immodaten'!$H$28,Ergebnistabelle!G6,0) -> 0 | AU6: =IF(B6='Eingabe Immodaten'!$H$28,Ergebnistabelle!L6,0) -> 0
B7: 1 | C7: =D7/12 -> 950 | D7: =IF(B7=0,0,'Eingabe Immodaten'!C11) -> 11400 | E7: =IF(B7=0,0,E6+D7) -> 11400 | F7: ='Eingabe Immodaten'!C12+'Eingabe Immodaten'!C13 -> 1332.12 | G7: =D7-F7 -> 10067.88 | H7: =IF(B7=0,0,IF(B7<='Eingabe Immodaten'!$C$28,'Eingabe Immodaten'!$C$32,'Eingabe Immodaten'!$C$34)) -> 15757.686 | I7: =IF(B7=0,0,IF(B7<='Eingabe Immodaten'!$H$6,'Eingabe Immodaten'!$H$9,'Eingabe Immodaten'!$H$11)) -> 0 | J7: =IF(H7>U6,U6*(1+O7/100),H7) -> 15757.686 | K7: =IF(I7>V6,V6*(1+R7/100),I7) -> 0 | L7: =J7+K7 -> 15757.686 | M7: 0 | O7: =IF(B7=0,0,IF(B7<='Eingabe Immodaten'!$C$28,'Eingabe Immodaten'!$C$30,'Eingabe Immodaten'!$C$33)) -> 4.3 | P7: =IF(B7=0,0,U6*O7/100) -> 10755.246 | Q7: =J7-P7 -> 5002.44 | R7: =IF(B7=0,0,IF(B7<='Eingabe Immodaten'!$H$6,'Eingabe Immodaten'!$H$7,'Eingabe Immodaten'!$H$10)) -> 2.53 | S7: =IF(B7=0,0,V6*R7/100) -> 0 | T7: =K7-S7 -> 0 | U7: =IF(B7=0,0,U6-Q7-M7+0.0000001) -> 245119.56 | V7: =IF(B7=0,0,V6-T7-N7+0.0000001) -> 1e-07 | W7: =IF(B7=0,0,U7+V7) -> 245119.56 | X7: =IF(B7=0,0,'Eingabe Immodaten'!$H$14) -> 215104.92 | Y7: =IF(B7=0,0,('Eingabe Immodaten'!$H$15)) -> 3.5 | Z7: =IF(B7=0,0,IF(Z6+1>99,0,Z6+Tabelle12[[#This Row],[Spalte23]])) -> 3.5 | AA7: =X7*Y7/100 -> 7528.6722 | AB7: =IF(B7=0,0,IF(B7<13,'Eingabe Immodaten'!$H$16,0)) -> 0 | AC7: =IF(B7=0,0,IF(B7<9,9,IF(B7<13,7,0))) -> 9 | AD7: =AB7*AC7/100 -> 0 | AE7: ='Eingabe Immodaten'!C9+IF(B7=0,0,IF(B7<='Eingabe Immodaten'!$C$28,IF('Eingabe Immodaten'!$C$29>5,'Eingabe Immodaten'!$C$29/100*'Eingabe Immodaten'!$C$23/'Eingabe Immodaten'!$C$28,'Eingabe Immodaten'!$C$29/100*'Eingabe Immodaten'!$C$23),0)) -> 0 | AF7: =(G7-P7-S7-AA7-AD7-AE7)*'Eingabe Immodaten'!$H$19 -> -3204.2549 | AG7: =IF(B7=0,0,G7-AF7-L7+AH7) -> -2485.5511 | AI7: =IF(B7='Eingabe Immodaten'!$H$28,U7,0) -> 0 | AJ7: =G7-AF7+AH7 -> 13272.135 | AK7: =IF(B7=0,0,AG7+AH7-AI7) -> -2485.5511 | AL7: =AG7/12 -> -207.12926 | AM7: =AG7-AM6 -> -21244.551 | AN7: =IF(B7=0,0,D8*'Eingabe Immodaten'!$H$22) -> 260907.24 | AO7: =IF(D7=0,0,AN7-W7+Tabelle12[[#This Row],[Spalte36]]) -> -5456.8711 | AP7: =IF(B7='Eingabe Immodaten'!$H$28,Ergebnistabelle!D7*'Eingabe Immodaten'!$H$22,0) -> 0 | AQ7: =IF(B7='Eingabe Immodaten'!$H$28,Ergebnistabelle!AM7,0) -> 0 | AR7: =IF(B7='Eingabe Immodaten'!$H$28,Ergebnistabelle!AO7,0) -> 0 | AS7: =IF(B7='Eingabe Immodaten'!$H$28,Ergebnistabelle!W7,0) -> 0 | AT7: =IF(B7='Eingabe Immodaten'!$H$28,Ergebnistabelle!G7,0) -> 0 | AU7: =IF(B7='Eingabe Immodaten'!$H$28,Ergebnistabelle!L7,0) -> 0
B8: =IF(B7=0,0,IF(B7+1>'Eingabe Immodaten'!$H$28,0,B7+1)) -> 2 | C8: =D8/12 -> 978.5 | D8: =IF(B8=0,0,D7*(1+'Eingabe Immodaten'!$C$15/100)) -> 11742 | E8: =IF(B8=0,0,E7+D8) -> 23142 | F8: =IF(B8=0,0,F7*(1+'Eingabe Immodaten'!$C$16/100)) -> 1345.4412 | G8: =D8-F8 -> 10396.559 | H8: =IF(B8=0,0,IF(B8<='Eingabe Immodaten'!$C$28,'Eingabe Immodaten'!$C$32,'Eingabe Immodaten'!$C$34)) -> 15757.686 | I8: =IF(B8=0,0,IF(B8<='Eingabe Immodaten'!$H$6,'Eingabe Immodaten'!$H$9,'Eingabe Immodaten'!$H$11)) -> 0 | J8: =IF(H8>U7,U7*(1+O8/100),H8) -> 15757.686 | K8: =IF(I8>V7,V7*(1+R8/100),I8) -> 0 | L8: =J8+K8 -> 15757.686 | N8: 0 | O8: =IF(B8=0,0,IF(B8<='Eingabe Immodaten'!$C$28,'Eingabe Immodaten'!$C$30,'Eingabe Immodaten'!$C$33)) -> 4.3 | P8: =IF(B8=0,0,U7*O8/100) -> 10540.141 | Q8: =J8-P8 -> 5217.5449 | R8: =IF(B8=0,0,IF(B8<='Eingabe Immodaten'!$H$6,'Eingabe Immodaten'!$H$7,'Eingabe Immodaten'!$H$10)) -> 2.53 | S8: =IF(B8=0,0,V7*R8/100) -> 2.53e-09 | T8: =K8-S8 -> -2.53e-09 | U8: =IF(B8=0,0,U7-Q8-M8+0.0000001) -> 239902.02 | V8: =IF(B8=0,0,V7-T8-N8+0.0000001) -> 2.0253e-07 | W8: =IF(B8=0,0,U8+V8) -> 239902.02 | X8: =IF(B8=0,0,'Eingabe Immodaten'!$H$14) -> 215104.92 | Y8: =IF(B8=0,0,IF(Z7=0,0,('Eingabe Immodaten'!$H$15))) -> 3.5 | Z8: =IF(B8=0,0,IF(Z7+1>99,0,Z7+Tabelle12[[#This Row],[Spalte23]])) -> 7 | AA8: =X8*Y8/100 -> 7528.6722 | AB8: =IF(B8=0,0,IF(B8<13,'Eingabe Immodaten'!$H$16,0)) -> 0 | AC8: =IF(B8=0,0,IF(B8<9,9,IF(B8<13,7,0))) -> 9 | AD8: =AB8*AC8/100 -> 0 | AE8: =IF(B8=0,0,IF(B8<='Eingabe Immodaten'!$C$28,IF('Eingabe Immodaten'!$C$29>5,'Eingabe Immodaten'!$C$29/100*'Eingabe Immodaten'!$C$23/'Eingabe Immodaten'!$C$28,0),0)) -> 0 | AF8: =(G8-P8-S8-AA8-AD8)*'Eingabe Immodaten'!$H$19 -> -2992.1792 | AG8: =IF(B8=0,0,G8-AF8-L8+AH8) -> -2368.948 | AI8: =IF(B8='Eingabe Immodaten'!$H$28,U8,0) -> 0 | AJ8: =G8-AF8+AH8 -> 13388.738 | AK8: =IF(B8=0,0,AG8+AH8-AI8) -> -2368.948 | AL8: =AG8/12 -> -197.41233 | AM8: =IF(B8=0,0,AM7+AG8) -> -23613.499 | AN8: =IF(B8=0,0,D8*(1+'Eingabe Immodaten'!$C$15/100))*'Eingabe Immodaten'!H22 -> 268734.46 | AO8: =IF(D8=0,0,AN8-W8+Tabelle12[[#This Row],[Spalte36]]) -> 5218.9431 | AP8: =IF(B8='Eingabe Immodaten'!$H$28,Ergebnistabelle!D8*'Eingabe Immodaten'!$H$22,0) -> 0 | AQ8: =IF(B8='Eingabe Immodaten'!$H$28,Ergebnistabelle!AM8,0) -> 0 | AR8: =IF(B8='Eingabe Immodaten'!$H$28,Ergebnistabelle!AO8,0) -> 0 | AS8: =IF(B8='Eingabe Immodaten'!$H$28,Ergebnistabelle!W8,0) -> 0 | AT8: =IF(B8='Eingabe Immodaten'!$H$28,Ergebnistabelle!G8,0) -> 0 | AU8: =IF(B8='Eingabe Immodaten'!$H$28,Ergebnistabelle!L8,0) -> 0
B9: =IF(B8=0,0,IF(B8+1>'Eingabe Immodaten'!$H$28,0,B8+1)) -> 3 | C9: =D9/12 -> 1007.855 | D9: =IF(B9=0,0,D8*(1+'Eingabe Immodaten'!$C$15/100)) -> 12094.26 | E9: =IF(B9=0,0,E8+D9) -> 35236.26 | F9: =IF(B9=0,0,F8*(1+'Eingabe Immodaten'!$C$16/100)) -> 1358.8956 | G9: =D9-F9 -> 10735.364 | H9: =IF(B9=0,0,IF(B9<='Eingabe Immodaten'!$C$28,'Eingabe Immodaten'!$C$32,'Eingabe Immodaten'!$C$34)) -> 15757.686 | I9: =IF(B9=0,0,IF(B9<='Eingabe Immodaten'!$H$6,'Eingabe Immodaten'!$H$9,'Eingabe Immodaten'!$H$11)) -> 0 | J9: =IF(H9>U8,U8*(1+O9/100),H9) -> 15757.686 | K9: =IF(I9>V8,V8*(1+R9/100),I9) -> 0 | L9: =J9+K9 -> 15757.686 | O9: =IF(B9=0,0,IF(B9<='Eingabe Immodaten'!$C$28,'Eingabe Immodaten'!$C$30,'Eingabe Immodaten'!$C$33)) -> 4.3 | P9: =IF(B9=0,0,U8*O9/100) -> 10315.787 | Q9: =J9-P9 -> 5441.8994 | R9: =IF(B9=0,0,IF(B9<='Eingabe Immodaten'!$H$6,'Eingabe Immodaten'!$H$7,'Eingabe Immodaten'!$H$10)) -> 2.53 | S9: =IF(B9=0,0,V8*R9/100) -> 5.124009e-09 | T9: =K9-S9 -> -5.124009e-09 | U9: =IF(B9=0,0,U8-Q9-M9+0.0000001) -> 234460.12 | V9: =IF(B9=0,0,V8-T9-N9+0.0000001) -> 3.0765401e-07 | W9: =IF(B9=0,0,U9+V9) -> 234460.12 | X9: =IF(B9=0,0,'Eingabe Immodaten'!$H$14) -> 215104.92 | Y9: =IF(B9=0,0,IF(Z8=0,0,('Eingabe Immodaten'!$H$15))) -> 3.5 | Z9: =IF(B9=0,0,IF(Z8+1>99,0,Z8+Tabelle12[[#This Row],[Spalte23]])) -> 10.5 | AA9: =X9*Y9/100 -> 7528.6722 | AB9: =IF(B9=0,0,IF(B9<13,'Eingabe Immodaten'!$H$16,0)) -> 0 | AC9: =IF(B9=0,0,IF(B9<9,9,IF(B9<13,7,0))) -> 9 | AD9: =AB9*AC9/100 -> 0 | AE9: =IF(B9=0,0,IF(B9<='Eingabe Immodaten'!$C$28,IF('Eingabe Immodaten'!$C$29>5,'Eingabe Immodaten'!$C$29/100*'Eingabe Immodaten'!$C$23/'Eingabe Immodaten'!$C$28,0),0)) -> 0 | AF9: =(G9-P9-S9-AA9-AD9)*'Eingabe Immodaten'!$H$19 -> -2772.5468 | AG9: =IF(B9=0,0,G9-AF9-L9+AH9) -> -2249.7748 | AI9: =IF(B9='Eingabe Immodaten'!$H$28,U9,0) -> 0 | AJ9: =G9-AF9+AH9 -> 13507.911 | AK9: =IF(B9=0,0,AG9+AH9-AI9) -> -2249.7748 | AL9: =AG9/12 -> -187.48123 | AM9: =IF(B9=0,0,AM8+AG9) -> -25863.274 | AN9: =IF(B9=0,0,D9*(1+'Eingabe Immodaten'!$C$15/100))*'Eingabe Immodaten'!H22 -> 276796.49 | AO9: =IF(D9=0,0,AN9-W9+Tabelle12[[#This Row],[Spalte36]]) -> 16473.101 | AP9: =IF(B9='Eingabe Immodaten'!$H$28,Ergebnistabelle!D9*'Eingabe Immodaten'!$H$22,0) -> 0 | AQ9: =IF(B9='Eingabe Immodaten'!$H$28,Ergebnistabelle!AM9,0) -> 0 | AR9: =IF(B9='Eingabe Immodaten'!$H$28,Ergebnistabelle!AO9,0) -> 0 | AS9: =IF(B9='Eingabe Immodaten'!$H$28,Ergebnistabelle!W9,0) -> 0 | AT9: =IF(B9='Eingabe Immodaten'!$H$28,Ergebnistabelle!G9,0) -> 0 | AU9: =IF(B9='Eingabe Immodaten'!$H$28,Ergebnistabelle!L9,0) -> 0
B10: =IF(B9=0,0,IF(B9+1>'Eingabe Immodaten'!$H$28,0,B9+1)) -> 4 | C10: =D10/12 -> 1038.0907 | D10: =IF(B10=0,0,D9*(1+'Eingabe Immodaten'!$C$15/100)) -> 12457.088 | E10: =IF(B10=0,0,E9+D10) -> 47693.348 | F10: =IF(B10=0,0,F9*(1+'Eingabe Immodaten'!$C$16/100)) -> 1372.4846 | G10: =D10-F10 -> 11084.603 | H10: =IF(B10=0,0,IF(B10<='Eingabe Immodaten'!$C$28,'Eingabe Immodaten'!$C$32,'Eingabe Immodaten'!$C$34)) -> 15757.686 | I10: =IF(B10=0,0,IF(B10<='Eingabe Immodaten'!$H$6,'Eingabe Immodaten'!$H$9,'Eingabe Immodaten'!$H$11)) -> 0 | J10: =IF(H10>U9,U9*(1+O10/100),H10) -> 15757.686 | K10: =IF(I10>V9,V9*(1+R10/100),I10) -> 0 | L10: =J10+K10 -> 15757.686 | O10: =IF(B10=0,0,IF(B10<='Eingabe Immodaten'!$C$28,'Eingabe Immodaten'!$C$30,'Eingabe Immodaten'!$C$33)) -> 4.3 | P10: =IF(B10=0,0,U9*O10/100) -> 10081.785 | Q10: =J10-P10 -> 5675.901 | R10: =IF(B10=0,0,IF(B10<='Eingabe Immodaten'!$H$6,'Eingabe Immodaten'!$H$7,'Eingabe Immodaten'!$H$10)) -> 2.53 | S10: =IF(B10=0,0,V9*R10/100) -> 7.7836464e-09 | T10: =K10-S10 -> -7.7836464e-09 | U10: =IF(B10=0,0,U9-Q10-M10+0.0000001) -> 228784.21 | V10: =IF(B10=0,0,V9-T10-N10+0.0000001) -> 4.1543766e-07 | W10: =IF(B10=0,0,U10+V10) -> 228784.21 | X10: =IF(B10=0,0,'Eingabe Immodaten'!$H$14) -> 215104.92 | Y10: =IF(B10=0,0,IF(Z9=0,0,('Eingabe Immodaten'!$H$15))) -> 3.5 | Z10: =IF(B10=0,0,IF(Z9+1>99,0,Z9+Tabelle12[[#This Row],[Spalte23]])) -> 14 | AA10: =X10*Y10/100 -> 7528.6722 | AB10: =IF(B10=0,0,IF(B10<13,'Eingabe Immodaten'!$H$16,0)) -> 0 | AC10: =IF(B10=0,0,IF(B10<9,9,IF(B10<13,7,0))) -> 9 | AD10: =AB10*AC10/100 -> 0 | AE10: =IF(B10=0,0,IF(B10<='Eingabe Immodaten'!$C$28,IF('Eingabe Immodaten'!$C$29>5,'Eingabe Immodaten'!$C$29/100*'Eingabe Immodaten'!$C$23/'Eingabe Immodaten'!$C$28,0),0)) -> 0 | AF10: =(G10-P10-S10-AA10-AD10)*'Eingabe Immodaten'!$H$19 -> -2545.083 | AG10: =IF(B10=0,0,G10-AF10-L10+AH10) -> -2127.9997 | AI10: =IF(B10='Eingabe Immodaten'!$H$28,U10,0) -> 0 | AJ10: =G10-AF10+AH10 -> 13629.686 | AK10: =IF(B10=0,0,AG10+AH10-AI10) -> -2127.9997 | AL10: =AG10/12 -> -177.33331 | AM10: =IF(B10=0,0,AM9+AG10) -> -27991.274 | AN10: =IF(B10=0,0,D10*(1+'Eingabe Immodaten'!$C$15/100))*'Eingabe Immodaten'!H22 -> 285100.39 | AO10: =IF(D10=0,0,AN10-W10+Tabelle12[[#This Row],[Spalte36]]) -> 28324.897 | AP10: =IF(B10='Eingabe Immodaten'!$H$28,Ergebnistabelle!D10*'Eingabe Immodaten'!$H$22,0) -> 0 | AQ10: =IF(B10='Eingabe Immodaten'!$H$28,Ergebnistabelle!AM10,0) -> 0 | AR10: =IF(B10='Eingabe Immodaten'!$H$28,Ergebnistabelle!AO10,0) -> 0 | AS10: =IF(B10='Eingabe Immodaten'!$H$28,Ergebnistabelle!W10,0) -> 0 | AT10: =IF(B10='Eingabe Immodaten'!$H$28,Ergebnistabelle!G10,0) -> 0 | AU10: =IF(B10='Eingabe Immodaten'!$H$28,Ergebnistabelle!L10,0) -> 0
B11: =IF(B10=0,0,IF(B10+1>'Eingabe Immodaten'!$H$28,0,B10+1)) -> 5 | C11: =D11/12 -> 1069.2334 | D11: =IF(B11=0,0,D10*(1+'Eingabe Immodaten'!$C$15/100)) -> 12830.8 | E11: =IF(B11=0,0,E10+D11) -> 60524.148 | F11: =IF(B11=0,0,F10*(1+'Eingabe Immodaten'!$C$16/100)) -> 1386.2094 | G11: =D11-F11 -> 11444.591 | H11: =IF(B11=0,0,IF(B11<='Eingabe Immodaten'!$C$28,'Eingabe Immodaten'!$C$32,'Eingabe Immodaten'!$C$34)) -> 15757.686 | I11: =IF(B11=0,0,IF(B11<='Eingabe Immodaten'!$H$6,'Eingabe Immodaten'!$H$9,'Eingabe Immodaten'!$H$11)) -> 0 | J11: =IF(H11>U10,U10*(1+O11/100),H11) -> 15757.686 | K11: =IF(I11>V10,V10*(1+R11/100),I11) -> 0 | L11: =J11+K11 -> 15757.686 | O11: =IF(B11=0,0,IF(B11<='Eingabe Immodaten'!$C$28,'Eingabe Immodaten'!$C$30,'Eingabe Immodaten'!$C$33)) -> 4.3 | P11: =IF(B11=0,0,U10*O11/100) -> 9837.7212 | Q11: =J11-P11 -> 5919.9648 | R11: =IF(B11=0,0,IF(B11<='Eingabe Immodaten'!$H$6,'Eingabe Immodaten'!$H$7,'Eingabe Immodaten'!$H$10)) -> 2.53 | S11: =IF(B11=0,0,V10*R11/100) -> 1.0510573e-08 | T11: =K11-S11 -> -1.0510573e-08 | U11: =IF(B11=0,0,U10-Q11-M11+0.0000001) -> 222864.25 | V11: =IF(B11=0,0,V10-T11-N11+0.0000001) -> 5.2594823e-07 | W11: =IF(B11=0,0,U11+V11) -> 222864.25 | X11: =IF(B11=0,0,'Eingabe Immodaten'!$H$14) -> 215104.92 | Y11: =IF(B11=0,0,IF(Z10=0,0,('Eingabe Immodaten'!$H$15))) -> 3.5 | Z11: =IF(B11=0,0,IF(Z10+1>99,0,Z10+Tabelle12[[#This Row],[Spalte23]])) -> 17.5 | AA11: =X11*Y11/100 -> 7528.6722 | AB11: =IF(B11=0,0,IF(B11<13,'Eingabe Immodaten'!$H$16,0)) -> 0 | AC11: =IF(B11=0,0,IF(B11<9,9,IF(B11<13,7,0))) -> 9 | AD11: =AB11*AC11/100 -> 0 | AE11: =IF(B11=0,0,IF(B11<='Eingabe Immodaten'!$C$28,IF('Eingabe Immodaten'!$C$29>5,'Eingabe Immodaten'!$C$29/100*'Eingabe Immodaten'!$C$23/'Eingabe Immodaten'!$C$28,0),0)) -> 0 | AF11: =(G11-P11-S11-AA11-AD11)*'Eingabe Immodaten'!$H$19 -> -2309.5029 | AG11: =IF(B11=0,0,G11-AF11-L11+AH11) -> -2003.592 | AI11: =IF(B11='Eingabe Immodaten'!$H$28,U11,0) -> 0 | AJ11: =G11-AF11+AH11 -> 13754.094 | AK11: =IF(B11=0,0,AG11+AH11-AI11) -> -2003.592 | AL11: =AG11/12 -> -166.966 | AM11: =IF(B11=0,0,AM10+AG11) -> -29994.866 | AN11: =IF(B11=0,0,D11*(1+'Eingabe Immodaten'!$C$15/100))*'Eingabe Immodaten'!H22 -> 293653.4 | AO11: =IF(D11=0,0,AN11-W11+Tabelle12[[#This Row],[Spalte36]]) -> 40794.282 | AP11: =IF(B11='Eingabe Immodaten'!$H$28,Ergebnistabelle!D11*'Eingabe Immodaten'!$H$22,0) -> 0 | AQ11: =IF(B11='Eingabe Immodaten'!$H$28,Ergebnistabelle!AM11,0) -> 0 | AR11: =IF(B11='Eingabe Immodaten'!$H$28,Ergebnistabelle!AO11,0) -> 0 | AS11: =IF(B11='Eingabe Immodaten'!$H$28,Ergebnistabelle!W11,0) -> 0 | AT11: =IF(B11='Eingabe Immodaten'!$H$28,Ergebnistabelle!G11,0) -> 0 | AU11: =IF(B11='Eingabe Immodaten'!$H$28,Ergebnistabelle!L11,0) -> 0
B12: =IF(B11=0,0,IF(B11+1>'Eingabe Immodaten'!$H$28,0,B11+1)) -> 6 | C12: =D12/12 -> 1101.3104 | D12: =IF(B12=0,0,D11*(1+'Eingabe Immodaten'!$C$15/100)) -> 13215.724 | E12: =IF(B12=0,0,E11+D12) -> 73739.873 | F12: =IF(B12=0,0,F11*(1+'Eingabe Immodaten'!$C$16/100)) -> 1400.0715 | G12: =D12-F12 -> 11815.653 | H12: =IF(B12=0,0,IF(B12<='Eingabe Immodaten'!$C$28,'Eingabe Immodaten'!$C$32,'Eingabe Immodaten'!$C$34)) -> 15757.686 | I12: =IF(B12=0,0,IF(B12<='Eingabe Immodaten'!$H$6,'Eingabe Immodaten'!$H$9,'Eingabe Immodaten'!$H$11)) -> 0 | J12: =IF(H12>U11,U11*(1+O12/100),H12) -> 15757.686 | K12: =IF(I12>V11,V11*(1+R12/100),I12) -> 0 | L12: =J12+K12 -> 15757.686 | O12: =IF(B12=0,0,IF(B12<='Eingabe Immodaten'!$C$28,'Eingabe Immodaten'!$C$30,'Eingabe Immodaten'!$C$33)) -> 4.3 | P12: =IF(B12=0,0,U11*O12/100) -> 9583.1627 | Q12: =J12-P12 -> 6174.5233 | R12: =IF(B12=0,0,IF(B12<='Eingabe Immodaten'!$H$6,'Eingabe Immodaten'!$H$7,'Eingabe Immodaten'!$H$10)) -> 2.53 | S12: =IF(B12=0,0,V11*R12/100) -> 1.330649e-08 | T12: =K12-S12 -> -1.330649e-08 | U12: =IF(B12=0,0,U11-Q12-M12+0.0000001) -> 216689.73 | V12: =IF(B12=0,0,V11-T12-N12+0.0000001) -> 6.3925472e-07 | W12: =IF(B12=0,0,U12+V12) -> 216689.73 | X12: =IF(B12=0,0,'Eingabe Immodaten'!$H$14) -> 215104.92 | Y12: =IF(B12=0,0,IF(Z11=0,0,('Eingabe Immodaten'!$H$15))) -> 3.5 | Z12: =IF(B12=0,0,IF(Z11+1>99,0,Z11+Tabelle12[[#This Row],[Spalte23]])) -> 21 | AA12: =X12*Y12/100 -> 7528.6722 | AB12: =IF(B12=0,0,IF(B12<13,'Eingabe Immodaten'!$H$16,0)) -> 0 | AC12: =IF(B12=0,0,IF(B12<9,9,IF(B12<13,7,0))) -> 9 | AD12: =AB12*AC12/100 -> 0 | AE12: =IF(B12=0,0,IF(B12<='Eingabe Immodaten'!$C$28,IF('Eingabe Immodaten'!$C$29>5,'Eingabe Immodaten'!$C$29/100*'Eingabe Immodaten'!$C$23/'Eingabe Immodaten'!$C$28,0),0)) -> 0 | AF12: =(G12-P12-S12-AA12-AD12)*'Eingabe Immodaten'!$H$19 -> -2065.511 | AG12: =IF(B12=0,0,G12-AF12-L12+AH12) -> -1876.5221 | AI12: =IF(B12='Eingabe Immodaten'!$H$28,U12,0) -> 0 | AJ12: =G12-AF12+AH12 -> 13881.164 | AK12: =IF(B12=0,0,AG12+AH12-AI12) -> -1876.5221 | AL12: =AG12/12 -> -156.37684 | AM12: =IF(B12=0,0,AM11+AG12) -> -31871.388 | AN12: =IF(B12=0,0,D12*(1+'Eingabe Immodaten'!$C$15/100))*'Eingabe Immodaten'!H22 -> 302463 | AO12: =IF(D12=0,0,AN12-W12+Tabelle12[[#This Row],[Spalte36]]) -> 53901.885 | AP12: =IF(B12='Eingabe Immodaten'!$H$28,Ergebnistabelle!D12*'Eingabe Immodaten'!$H$22,0) -> 0 | AQ12: =IF(B12='Eingabe Immodaten'!$H$28,Ergebnistabelle!AM12,0) -> 0 | AR12: =IF(B12='Eingabe Immodaten'!$H$28,Ergebnistabelle!AO12,0) -> 0 | AS12: =IF(B12='Eingabe Immodaten'!$H$28,Ergebnistabelle!W12,0) -> 0 | AT12: =IF(B12='Eingabe Immodaten'!$H$28,Ergebnistabelle!G12,0) -> 0 | AU12: =IF(B12='Eingabe Immodaten'!$H$28,Ergebnistabelle!L12,0) -> 0
